{"text_format":"1","workbook":"xlsx","n_sheets":4,"sheets":["年度入力シート","年度CO2","年度金額","年度別推移"],"not_rendered":{"charts":12,"images":0,"macros":0,"external_links":1,"defined_names":1,"comments":0,"pivot_tables":0},"unopened":[],"bounds":{"document_bytes":16777216,"sheet_cells":100000,"rows_first":2000,"rows_last":500,"rows_between":2000,"halvings":0,"cell_chars":16384,"cell_head_chars":4096},"cells_cut":0,"cells_raw":0,"read":"whole","date_system":"1900"}

{"sheet":"年度入力シート","index":0,"n_rows":46,"n_cols":12,"rows_kept":46,"cut":false,"hidden":false,"merged":[[0,0,0,11],[5,11,6,11],[6,0,6,1]]}
["「エコライフノート」　　　　　　　年度"]
["パソコンで入力する場合は、      部分のみ入力してください。排出量・合計は自動計算されます。",null,null,null,null,null,null,null,null,null,"社名："]
[]
["請求が２ヶ月に１度の場合は、２等分してください。",null,null,null,null,null,null,null,null,null,"人数："]
[]
[null,null,"電気\n(kwh)","都市ｶﾞｽ\n（m3)","ＬＰガス\n（ｍ3）","水道\n（m3)","灯油\n（Ｌ）","ガソリン\n（Ｌ）","軽油\n（Ｌ）","紙\n（kg）","合計","具体的な活動\n特に取り組んだことを\nご紹介ください。"]
["ＣＯ2排出係数 <a>",null,0.55900000000000005,2.29,5.8840000000000003,0.57999999999999996,2.4900000000000002,2.3199999999999998,2.58,0.49,"-"]
["４月","使用量        <b>",524,79,null,37,null,154.01,null,1,"-"]
[null,"排出量(kg) <a×b>",{"$f":"C7*C8","v":292.91600000000005},180.91,0,21.459999999999997,0,357.30319999999995,0,{"$f":"J7*J8","v":0.49},{"$f":"SUM(C9:J9)","v":853.0791999999999}]
[null,"金 額 （円）",12422,13685,null,12030,null,19000]
["５月","使用量        <b>",357,98,null,37,null,128.54,null,1,"-"]
[null,"排出量(kg) <a×b>",{"$f":"C7*C11","v":199.56300000000002},224.42000000000002,0,21.459999999999997,0,298.21279999999996,0,{"$f":"J7*J11","v":0.49},{"$f":"SUM(C12:J12)","v":744.14580000000001}]
[null,"金 額 （円）",8591,16797,null,12029,null,12181,null,null,{"$f":"SUM(C13:J13)","v":49598}]
["６月","使用量        <b>",191,72,null,36.5,null,54.28,null,2,"-"]
[null,"排出量(kg) <a×b>",{"$f":"C7*C14","v":106.76900000000001},164.88,0,21.169999999999998,0,125.92959999999999,0,{"$f":"J7*J14","v":0.98},{"$f":"SUM(C15:J15)","v":419.72860000000003}]
[null,"金 額 （円）",4959,12539,null,11850,null,7078,null,null,{"$f":"SUM(C16:J16)","v":36426}]
["７月","使用量        <b>",176,47,null,36.5,null,108.69,null,1.5,"-"]
[null,"排出量(kg) <a×b>",{"$f":"C7*C17","v":98.384000000000015},107.63,0,21.169999999999998,0,252.16079999999997,0,{"$f":"J7*J17","v":0.73499999999999999},{"$f":"SUM(C18:J18)","v":480.07979999999998}]
[null,"金 額 （円）",4639,8413,null,11850,null,14591,null,null,{"$f":"SUM(C19:J19)","v":39493}]
["８月","使用量        <b>",247,60,null,40.5,null,193.5,null,1,"-"]
[null,"排出量(kg) <a×b>",{"$f":"C7*C20","v":138.07300000000001},137.4,0,23.49,0,448.91999999999996,0,{"$f":"J7*J20","v":0.49},{"$f":"SUM(C21:J21)","v":748.37300000000005}]
[null,"金 額 （円）",6153,10535,null,13287,null,27203,null,null,{"$f":"SUM(C22:J22)","v":57178}]
["９月","使用量        <b>",233,46,null,40.5,null,117.18,null,1,"-"]
[null,"排出量(kg) <a×b>",{"$f":"C7*C23","v":130.24700000000001},105.34,0,23.49,0,271.85759999999999,0,{"$f":"J7*J23","v":0.49},{"$f":"SUM(C24:J24)","v":531.42460000000005}]
[null,"金 額 （円）",5854,8250,null,13286,null,15900,null,null,{"$f":"SUM(C25:J25)","v":43290}]
["10月","使用量        <b>",217,53,null,41,null,74.92,null,1,"-"]
[null,"排出量(kg) <a×b>",{"$f":"C7*C26","v":121.30300000000001},121.37,0,23.779999999999998,0,173.81439999999998,0,{"$f":"J7*J26","v":0.49},{"$f":"SUM(C27:J27)","v":440.75739999999996}]
[null,"金 額 （円）",5574,9442,null,13466,null,10363,null,null,{"$f":"SUM(C28:J28)","v":38845}]
["11月","使用量        <b>",248,56,null,41,null,185.31,null,1,"-"]
[null,"排出量(kg) <a×b>",{"$f":"C7*C29","v":138.63200000000001},128.24,0,23.779999999999998,0,429.91919999999999,0,{"$f":"J7*J29","v":0.49},{"$f":"SUM(C30:J30)","v":721.06119999999999}]
[null,"金 額 （円）",6244,9935,null,13466,null,26348,null,null,{"$f":"SUM(C31:J31)","v":55993}]
["12月","使用量        <b>",578,68,null,37.5,null,68.489999999999995,null,1.5,"-"]
[null,"排出量(kg) <a×b>",{"$f":"C7*C32","v":323.10200000000003},155.72,0,21.75,0,158.89679999999998,0,{"$f":"J7*J32","v":0.73499999999999999},{"$f":"SUM(C33:J33)","v":660.2038}]
[null,"金 額 （円）",13823,11903,null,12209,null,9806,null,null,{"$f":"SUM(C34:J34)","v":47741}]
["１月","使用量        <b>",1196,100,null,37.5,null,111.65,null,1.5,"-"]
[null,"排出量(kg) <a×b>",{"$f":"C7*C35","v":668.56400000000008},229,0,21.75,0,259.02800000000002,0,{"$f":"J7*J35","v":0.73499999999999999},{"$f":"SUM(C36:J36)","v":1179.077}]
[null,"金 額 （円）",28484,17342,null,12209,null,15691,null,null,{"$f":"SUM(C37:J37)","v":73726}]
["２月","使用量        <b>",1057,100,null,41.5,null,95.54,null,2,"-"]
[null,"排出量(kg) <a×b>",{"$f":"C7*C38","v":590.86300000000006},229,0,24.069999999999997,0,221.65280000000001,0,{"$f":"J7*J38","v":0.98},{"$f":"SUM(C39:J39)","v":1066.5658000000001}]
[null,"金 額 （円）",25220,17342,null,13645,null,13376,null,null,{"$f":"SUM(C40:J40)","v":69583}]
["３月","使用量        <b>",989,112,null,41.5,null,77.599999999999994,null,2,"-"]
[null,"排出量(kg) <a×b>",{"$f":"C7*C41","v":552.851},256.48,0,24.069999999999997,0,180.03199999999998,0,{"$f":"J7*J41","v":0.98},{"$f":"SUM(C42:J42)","v":1014.413}]
[null,"金 額 （円）",23623,19333,null,13645,null,10918,null,null,{"$f":"SUM(C43:J43)","v":67519}]
["累計","使用量        <b>",{"$f":"C8+C11+C14+C17+C20+C23+C26+C29+C32+C35+C38+C41","v":6013},891,0,468,0,1369.71,0,16.5,"-"]
[null,"排出量(kg) <a×b>",{"$f":"C7*C44","v":3361.2670000000003},2040.39,0,271.44,0,3177.7271999999998,0,8.0849999999999991,{"$f":"SUM(C45:J45)","v":8858.9091999999982}]
[null,"金 額 （円）",{"$f":"C10+C13+C16+C19+C22+C25+C28+C31+C34+C37+C40+C43","v":145586},155516,0,152972,0,182455,0,0,{"$f":"SUM(C46:J46)","v":636529}]

{"sheet":"年度CO2","index":1,"n_rows":15,"n_cols":13,"rows_kept":15,"cut":false,"hidden":false,"merged":[]}
[]
[null,null,"電気","ガス","水道","灯油","ｶﾞｿﾘﾝ","軽油","紙","合計",null,"都市","ＬＰ"]
[null,"４月",{"$f":"年度入力シート!C9","v":292.91600000000005},{"$f":"SUM(L3:M3)","v":180.91},{"$f":"年度入力シート!F9","v":21.459999999999997},{"$f":"年度入力シート!G9","v":0},{"$f":"年度入力シート!H9","v":357.30319999999995},{"$f":"年度入力シート!I9","v":0},{"$f":"年度入力シート!J9","v":0.49},{"$f":"年度入力シート!K9","v":853.0791999999999},null,{"$f":"年度入力シート!D9","v":180.91},{"$f":"年度入力シート!E9","v":0}]
[null,"５月",{"$f":"年度入力シート!C12","v":199.56300000000002},224.42000000000002,{"$f":"年度入力シート!F12","v":21.459999999999997},{"$f":"年度入力シート!G12","v":0},{"$f":"年度入力シート!H12","v":298.21279999999996},{"$f":"年度入力シート!I12","v":0},{"$f":"年度入力シート!J12","v":0.49},{"$f":"年度入力シート!K12","v":744.14580000000001},null,{"$f":"年度入力シート!D12","v":224.42000000000002},{"$f":"年度入力シート!E12","v":0}]
[null,"６月",{"$f":"年度入力シート!C15","v":106.76900000000001},164.88,{"$f":"年度入力シート!F15","v":21.169999999999998},{"$f":"年度入力シート!G15","v":0},{"$f":"年度入力シート!H15","v":125.92959999999999},{"$f":"年度入力シート!I15","v":0},{"$f":"年度入力シート!J15","v":0.98},{"$f":"年度入力シート!K15","v":419.72860000000003},null,{"$f":"年度入力シート!D15","v":164.88},{"$f":"年度入力シート!E15","v":0}]
[null,"７月",{"$f":"年度入力シート!C18","v":98.384000000000015},107.63,{"$f":"年度入力シート!F18","v":21.169999999999998},{"$f":"年度入力シート!G18","v":0},{"$f":"年度入力シート!H18","v":252.16079999999997},{"$f":"年度入力シート!I18","v":0},{"$f":"年度入力シート!J18","v":0.73499999999999999},{"$f":"年度入力シート!K18","v":480.07979999999998},null,{"$f":"年度入力シート!D18","v":107.63},{"$f":"年度入力シート!E18","v":0}]
[null,"８月",{"$f":"年度入力シート!C21","v":138.07300000000001},137.4,{"$f":"年度入力シート!F21","v":23.49},{"$f":"年度入力シート!G21","v":0},{"$f":"年度入力シート!H21","v":448.91999999999996},{"$f":"年度入力シート!I21","v":0},{"$f":"年度入力シート!J21","v":0.49},{"$f":"年度入力シート!K21","v":748.37300000000005},null,{"$f":"年度入力シート!D21","v":137.4},{"$f":"年度入力シート!E21","v":0}]
[null,"９月",{"$f":"年度入力シート!C24","v":130.24700000000001},105.34,{"$f":"年度入力シート!F24","v":23.49},{"$f":"年度入力シート!G24","v":0},{"$f":"年度入力シート!H24","v":271.85759999999999},{"$f":"年度入力シート!I24","v":0},{"$f":"年度入力シート!J24","v":0.49},{"$f":"年度入力シート!K24","v":531.42460000000005},null,{"$f":"年度入力シート!D24","v":105.34},{"$f":"年度入力シート!E24","v":0}]
[null,"10月",{"$f":"年度入力シート!C27","v":121.30300000000001},121.37,{"$f":"年度入力シート!F27","v":23.779999999999998},{"$f":"年度入力シート!G27","v":0},{"$f":"年度入力シート!H27","v":173.81439999999998},{"$f":"年度入力シート!I27","v":0},{"$f":"年度入力シート!J27","v":0.49},{"$f":"年度入力シート!K27","v":440.75739999999996},null,{"$f":"年度入力シート!D27","v":121.37},{"$f":"年度入力シート!E27","v":0}]
[null,"11月",{"$f":"年度入力シート!C30","v":138.63200000000001},128.24,{"$f":"年度入力シート!F30","v":23.779999999999998},{"$f":"年度入力シート!G30","v":0},{"$f":"年度入力シート!H30","v":429.91919999999999},{"$f":"年度入力シート!I30","v":0},{"$f":"年度入力シート!J30","v":0.49},{"$f":"年度入力シート!K30","v":721.06119999999999},null,{"$f":"年度入力シート!D30","v":128.24},{"$f":"年度入力シート!E30","v":0}]
[null,"12月",{"$f":"年度入力シート!C33","v":323.10200000000003},155.72,{"$f":"年度入力シート!F33","v":21.75},{"$f":"年度入力シート!G33","v":0},{"$f":"年度入力シート!H33","v":158.89679999999998},{"$f":"年度入力シート!I33","v":0},{"$f":"年度入力シート!J33","v":0.73499999999999999},{"$f":"年度入力シート!K33","v":660.2038},null,{"$f":"年度入力シート!D33","v":155.72},{"$f":"年度入力シート!E33","v":0}]
[null,"１月",{"$f":"年度入力シート!C36","v":668.56400000000008},229,{"$f":"年度入力シート!F36","v":21.75},{"$f":"年度入力シート!G36","v":0},{"$f":"年度入力シート!H36","v":259.02800000000002},{"$f":"年度入力シート!I36","v":0},{"$f":"年度入力シート!J36","v":0.73499999999999999},{"$f":"年度入力シート!K36","v":1179.077},null,{"$f":"年度入力シート!D36","v":229},{"$f":"年度入力シート!E36","v":0}]
[null,"２月",{"$f":"年度入力シート!C39","v":590.86300000000006},229,{"$f":"年度入力シート!F39","v":24.069999999999997},{"$f":"年度入力シート!G39","v":0},{"$f":"年度入力シート!H39","v":221.65280000000001},{"$f":"年度入力シート!I39","v":0},{"$f":"年度入力シート!J39","v":0.98},{"$f":"年度入力シート!K39","v":1066.5658000000001},null,{"$f":"年度入力シート!D39","v":229},{"$f":"年度入力シート!E39","v":0}]
[null,"３月",{"$f":"年度入力シート!C42","v":552.851},256.48,{"$f":"年度入力シート!F42","v":24.069999999999997},{"$f":"年度入力シート!G42","v":0},{"$f":"年度入力シート!H42","v":180.03199999999998},{"$f":"年度入力シート!I42","v":0},{"$f":"年度入力シート!J42","v":0.98},{"$f":"年度入力シート!K42","v":1014.413},null,{"$f":"年度入力シート!D42","v":256.48},{"$f":"年度入力シート!E42","v":0}]
[null,"累計",{"$f":"年度入力シート!C45","v":3361.2670000000003},2040.39,{"$f":"年度入力シート!F45","v":271.44},{"$f":"年度入力シート!G45","v":0},{"$f":"年度入力シート!H45","v":3177.7271999999998},{"$f":"年度入力シート!I45","v":0},{"$f":"年度入力シート!J45","v":8.0849999999999991},{"$f":"年度入力シート!K45","v":8858.9091999999982},null,{"$f":"年度入力シート!D45","v":2040.39},{"$f":"年度入力シート!E45","v":0}]

{"sheet":"年度金額","index":2,"n_rows":15,"n_cols":13,"rows_kept":15,"cut":false,"hidden":false,"merged":[]}
[]
[null,null,"電気","ガス","水道","灯油","ｶﾞｿﾘﾝ","軽油","紙","合計",null,"都市","ＬＰ"]
[null,"４月",{"$f":"年度入力シート!C10","v":12422},{"$f":"SUM(L3:M3)","v":13685},{"$f":"年度入力シート!F10","v":12030},{"$f":"年度入力シート!G10","v":0},{"$f":"年度入力シート!H10","v":19000},{"$f":"年度入力シート!I10","v":0},{"$f":"年度入力シート!J10","v":0},{"$f":"年度入力シート!K10","v":0},null,{"$f":"年度入力シート!D10","v":13685},{"$f":"年度入力シート!E10","v":0}]
[null,"５月",{"$f":"年度入力シート!C13","v":8591},16797,{"$f":"年度入力シート!F13","v":12029},{"$f":"年度入力シート!G13","v":0},{"$f":"年度入力シート!H13","v":12181},{"$f":"年度入力シート!I13","v":0},{"$f":"年度入力シート!J13","v":0},{"$f":"年度入力シート!K13","v":49598},null,{"$f":"年度入力シート!D13","v":16797},{"$f":"年度入力シート!E13","v":0}]
[null,"６月",{"$f":"年度入力シート!C16","v":4959},12539,{"$f":"年度入力シート!F16","v":11850},{"$f":"年度入力シート!G16","v":0},{"$f":"年度入力シート!H16","v":7078},{"$f":"年度入力シート!I16","v":0},{"$f":"年度入力シート!J16","v":0},{"$f":"年度入力シート!K16","v":36426},null,{"$f":"年度入力シート!D16","v":12539},{"$f":"年度入力シート!E16","v":0}]
[null,"７月",{"$f":"年度入力シート!C19","v":4639},8413,{"$f":"年度入力シート!F19","v":11850},{"$f":"年度入力シート!G19","v":0},{"$f":"年度入力シート!H19","v":14591},{"$f":"年度入力シート!I19","v":0},{"$f":"年度入力シート!J19","v":0},{"$f":"年度入力シート!K19","v":39493},null,{"$f":"年度入力シート!D19","v":8413},{"$f":"年度入力シート!E19","v":0}]
[null,"８月",{"$f":"年度入力シート!C22","v":6153},10535,{"$f":"年度入力シート!F22","v":13287},{"$f":"年度入力シート!G22","v":0},{"$f":"年度入力シート!H22","v":27203},{"$f":"年度入力シート!I22","v":0},{"$f":"年度入力シート!J22","v":0},{"$f":"年度入力シート!K22","v":57178},null,{"$f":"年度入力シート!D22","v":10535},{"$f":"年度入力シート!E22","v":0}]
[null,"９月",{"$f":"年度入力シート!C25","v":5854},8250,{"$f":"年度入力シート!F25","v":13286},{"$f":"年度入力シート!G25","v":0},{"$f":"年度入力シート!H25","v":15900},{"$f":"年度入力シート!I25","v":0},{"$f":"年度入力シート!J25","v":0},{"$f":"年度入力シート!K25","v":43290},null,{"$f":"年度入力シート!D25","v":8250},{"$f":"年度入力シート!E25","v":0}]
[null,"10月",{"$f":"年度入力シート!C28","v":5574},9442,{"$f":"年度入力シート!F28","v":13466},{"$f":"年度入力シート!G28","v":0},{"$f":"年度入力シート!H28","v":10363},{"$f":"年度入力シート!I28","v":0},{"$f":"年度入力シート!J28","v":0},{"$f":"年度入力シート!K28","v":38845},null,{"$f":"年度入力シート!D28","v":9442},{"$f":"年度入力シート!E28","v":0}]
[null,"11月",{"$f":"年度入力シート!C31","v":6244},9935,{"$f":"年度入力シート!F31","v":13466},{"$f":"年度入力シート!G31","v":0},{"$f":"年度入力シート!H31","v":26348},{"$f":"年度入力シート!I31","v":0},{"$f":"年度入力シート!J31","v":0},{"$f":"年度入力シート!K31","v":55993},null,{"$f":"年度入力シート!D31","v":9935},{"$f":"年度入力シート!E31","v":0}]
[null,"12月",{"$f":"年度入力シート!C34","v":13823},11903,{"$f":"年度入力シート!F34","v":12209},{"$f":"年度入力シート!G34","v":0},{"$f":"年度入力シート!H34","v":9806},{"$f":"年度入力シート!I34","v":0},{"$f":"年度入力シート!J34","v":0},{"$f":"年度入力シート!K34","v":47741},null,{"$f":"年度入力シート!D34","v":11903},{"$f":"年度入力シート!E34","v":0}]
[null,"１月",{"$f":"年度入力シート!C37","v":28484},17342,{"$f":"年度入力シート!F37","v":12209},{"$f":"年度入力シート!G37","v":0},{"$f":"年度入力シート!H37","v":15691},{"$f":"年度入力シート!I37","v":0},{"$f":"年度入力シート!J37","v":0},{"$f":"年度入力シート!K37","v":73726},null,{"$f":"年度入力シート!D37","v":17342},{"$f":"年度入力シート!E37","v":0}]
[null,"２月",{"$f":"年度入力シート!C40","v":25220},17342,{"$f":"年度入力シート!F40","v":13645},{"$f":"年度入力シート!G40","v":0},{"$f":"年度入力シート!H40","v":13376},{"$f":"年度入力シート!I40","v":0},{"$f":"年度入力シート!J40","v":0},{"$f":"年度入力シート!K40","v":69583},null,{"$f":"年度入力シート!D40","v":17342},{"$f":"年度入力シート!E40","v":0}]
[null,"３月",{"$f":"年度入力シート!C43","v":23623},19333,{"$f":"年度入力シート!F43","v":13645},{"$f":"年度入力シート!G43","v":0},{"$f":"年度入力シート!H43","v":10918},{"$f":"年度入力シート!I43","v":0},{"$f":"年度入力シート!J43","v":0},{"$f":"年度入力シート!K43","v":67519},null,{"$f":"年度入力シート!D43","v":19333},{"$f":"年度入力シート!E43","v":0}]
[null,"累計",{"$f":"年度入力シート!C46","v":145586},155516,{"$f":"年度入力シート!F46","v":152972},{"$f":"年度入力シート!G46","v":0},{"$f":"年度入力シート!H46","v":182455},{"$f":"年度入力シート!I46","v":0},{"$f":"年度入力シート!J46","v":0},{"$f":"年度入力シート!K46","v":636529},null,{"$f":"年度入力シート!D46","v":155516},{"$f":"年度入力シート!E46","v":0}]

{"sheet":"年度別推移","index":3,"n_rows":44,"n_cols":15,"rows_kept":44,"cut":false,"hidden":false,"merged":[]}
["エコライフノート年度別推移表"]
["使用量","４月","５月","６月","７月","８月","９月","１０月","１１月","１２月","１月","２月","３月","合計","平均/月"]
["電気　　年\n(kwh)"]
["電気　　年\n(kwh)"]
["電気　　年\n(kwh)"]
["電気　　年\n(kwh)"]
["電気　　年\n(kwh)"]
["都市ｶﾞｽ　年度\n（m3)"]
["都市ｶﾞｽ　年度\n（m3)"]
["都市ｶﾞｽ　年度\n（m3)"]
["都市ｶﾞｽ　年度\n（m3)"]
["都市ｶﾞｽ　年度\n（m3)"]
["水道　年度\n（m3)"]
["水道　年度\n（m3)"]
["水道　年度\n（m3)"]
["水道　年度\n（m3)"]
["水道　年度\n（m3)"]
["ガソリン　年度\n（Ｌ）"]
["ガソリン　年度\n（Ｌ）"]
["ガソリン　年度\n（Ｌ）"]
["ガソリン　年度\n（Ｌ）"]
["ガソリン　年度\n（Ｌ）"]
[]
["金額","４月","５月","６月","７月","８月","９月","１０月","１１月","１２月","１月","２月","３月","合計","平均/月"]
["電気　　年\n(kwh)"]
["電気　　年\n(kwh)"]
["電気　　年\n(kwh)"]
["電気　　年\n(kwh)"]
["電気　　年\n(kwh)"]
["都市ｶﾞｽ　年度\n（m3)"]
["都市ｶﾞｽ　年度\n（m3)"]
["都市ｶﾞｽ　年度\n（m3)"]
["都市ｶﾞｽ　年度\n（m3)"]
["都市ｶﾞｽ　年度\n（m3)"]
["水道　年度\n（m3)"]
["水道　年度\n（m3)"]
["水道　年度\n（m3)"]
["水道　年度\n（m3)"]
["水道　年度\n（m3)"]
["ガソリン　年度\n（Ｌ）"]
["ガソリン　年度\n（Ｌ）"]
["ガソリン　年度\n（Ｌ）"]
["ガソリン　年度\n（Ｌ）"]
["ガソリン　年度\n（Ｌ）"]